BEGIN:VCALENDAR
VERSION:2.0
PRODID:-//Cambridge Technology Consulting Group, Inc. - ECPv6.15.20//NONSGML v1.0//EN
CALSCALE:GREGORIAN
METHOD:PUBLISH
X-WR-CALNAME:Cambridge Technology Consulting Group, Inc.
X-ORIGINAL-URL:https://ctcg.com
X-WR-CALDESC:Events for Cambridge Technology Consulting Group, Inc.
REFRESH-INTERVAL;VALUE=DURATION:PT1H
X-Robots-Tag:noindex
X-PUBLISHED-TTL:PT1H
BEGIN:VTIMEZONE
TZID:UTC
BEGIN:STANDARD
TZOFFSETFROM:+0000
TZOFFSETTO:+0000
TZNAME:UTC
DTSTART:20160101T000000
END:STANDARD
END:VTIMEZONE
BEGIN:VEVENT
DTSTART;TZID=UTC:20171103T070000
DTEND;TZID=UTC:20171103T090000
DTSTAMP:20260423T162701
CREATED:20170724T151622Z
LAST-MODIFIED:20170724T151622Z
UID:773-1509692400-1509699600@ctcg.com
SUMMARY:SoCal Breakfast
DESCRIPTION:
URL:https://ctcg.com/event/socal-breakfast-3/
LOCATION:The Lakes Golf Course\, 400 S Sepulveda Blvd\, El Segundo\, CA\, 90245\, United States
END:VEVENT
BEGIN:VEVENT
DTSTART;TZID=UTC:20171020T080000
DTEND;TZID=UTC:20171022T210000
DTSTAMP:20260423T162701
CREATED:20170724T150706Z
LAST-MODIFIED:20170724T150706Z
UID:763-1508486400-1508706000@ctcg.com
SUMMARY:IMC USA Annual Conference
DESCRIPTION:IMC USA 2017 Annual Consulting Conference\nTheme:  Add Value for Clients to Build Your Practice
URL:https://ctcg.com/event/imc-usa-annual-conference/
LOCATION:Atlanta\, GA\, GA\, United States
END:VEVENT
BEGIN:VEVENT
DTSTART;TZID=UTC:20171006T070000
DTEND;TZID=UTC:20171006T090000
DTSTAMP:20260423T162701
CREATED:20170724T151516Z
LAST-MODIFIED:20170724T151705Z
UID:771-1507273200-1507280400@ctcg.com
SUMMARY:SoCal Breakfast
DESCRIPTION:
URL:https://ctcg.com/event/socal-breakfast-2/
LOCATION:The Lakes Golf Course\, 400 S Sepulveda Blvd\, El Segundo\, CA\, 90245\, United States
END:VEVENT
BEGIN:VEVENT
DTSTART;TZID=UTC:20170908T070000
DTEND;TZID=UTC:20170908T090000
DTSTAMP:20260423T162701
CREATED:20170724T151214Z
LAST-MODIFIED:20170724T151736Z
UID:768-1504854000-1504861200@ctcg.com
SUMMARY:SoCal Breakfast
DESCRIPTION:
URL:https://ctcg.com/event/socal-breakfast/
LOCATION:The Lakes Golf Course\, 400 S Sepulveda Blvd\, El Segundo\, CA\, 90245\, United States
END:VEVENT
BEGIN:VEVENT
DTSTART;TZID=UTC:20170904T080000
DTEND;TZID=UTC:20170907T220000
DTSTAMP:20260423T162701
CREATED:20170724T145844Z
LAST-MODIFIED:20170724T145844Z
UID:753-1504512000-1504821600@ctcg.com
SUMMARY:CMC Int'l Conference
DESCRIPTION:2017 ICMCI Annual Meeting of Delegates\n5th CMC International Conference\nBridging Minds:  Knowledge/Experience/Technology
URL:https://ctcg.com/event/cmc-intl-conference/
LOCATION:Astana\, Kazakhstan
END:VEVENT
BEGIN:VEVENT
DTSTART;TZID=UTC:20170809T163000
DTEND;TZID=UTC:20170809T183000
DTSTAMP:20260423T162701
CREATED:20170724T145630Z
LAST-MODIFIED:20170724T151818Z
UID:748-1502296200-1502303400@ctcg.com
SUMMARY:IMC Summer Social
DESCRIPTION:Networking Event for Professional Management Consultants.   Enjoy the opportunity to meet fellow consultants on the patio of
URL:https://ctcg.com/event/imc-summer-social/
LOCATION:CA
END:VEVENT
END:VCALENDAR